BEGIN:VCALENDAR
VERSION:2.0
PRODID:icalendar-ruby
CALSCALE:GREGORIAN
METHOD:PUBLISH
BEGIN:VEVENT
DTSTAMP:20260422T085312Z
UID:34-279053@gouldchurch.org
DTSTART;VALUE=DATE:20260419
DTEND;VALUE=DATE:20260419
CLASS:PUBLIC
CREATED:20260412T221439
DESCRIPTION:.
LAST-MODIFIED:20260412T221439
LOCATION:Prattsville Reformed Church
SUMMARY:Combined Worship in Prattsville
URL;VALUE=URI:https://www.gouldchurch.org/events/combined-worship-in-pratts
 ville/2026-04-19
ATTACH;FILENAME=11-am-church-pic.JPG;FMTTYPE=image/jpeg:https://dq5pwpg1q8r
 u0.cloudfront.net/2025/10/04/20/21/43/475577f9-157e-4eba-a7b1-33233e5b301b
 /11-am-church-pic.JPG
END:VEVENT
END:VCALENDAR
